BEGIN:VCALENDAR
VERSION:2.0
PRODID:-//eventon.com NONSGML v1.0//EN
BEGIN:VEVENT
UID:69ec3d46bcf71
DTSTAMP:20260425T060422
DTSTART:20260428T070000Z
DTEND:20260428T110000Z
LOCATION:Kaštieľ Mojmírovce Mojmírovce
SUMMARY:Seminár Limagrain Kaštieľ Mojmírovce
DESCRIPTION: 
END:VEVENT
END:VCALENDAR